BEGIN:VCALENDAR
VERSION:2.0
PRODID:-//Laurie Krieg - ECPv6.15.20//NONSGML v1.0//EN
CALSCALE:GREGORIAN
METHOD:PUBLISH
X-WR-CALNAME:Laurie Krieg
X-ORIGINAL-URL:https://lauriekrieg.com
X-WR-CALDESC:Events for Laurie Krieg
REFRESH-INTERVAL;VALUE=DURATION:PT1H
X-Robots-Tag:noindex
X-PUBLISHED-TTL:PT1H
BEGIN:VTIMEZONE
TZID:UTC
BEGIN:STANDARD
TZOFFSETFROM:+0000
TZOFFSETTO:+0000
TZNAME:UTC
DTSTART:20250101T000000
END:STANDARD
END:VTIMEZONE
BEGIN:VEVENT
DTSTART;TZID=UTC:20260425T090000
DTEND;TZID=UTC:20260425T123000
DTSTAMP:20260423T004349
CREATED:20260306T162226Z
LAST-MODIFIED:20260306T162226Z
UID:4852-1777107600-1777120200@lauriekrieg.com
SUMMARY:Raising Wise Kids in a Sexually Broken World
DESCRIPTION:Raising Wise Kids in a Sexually Broken World \nHow can parents and disciple-makers help the next generation to wisely walk in a sexually broken world like Jesus? What are four foundations they can lay underneath their children’s feet so that no matter how their kids experience sin within them  they have the tools they need to walk in the way of Jesus no matter what? The Center for Faith\, Sexuality and Gender’s Director of Parent Programs and Discipleship\, Laurie Krieg\, has has been teaching at the intersection of faith and sexuality for over a decade while parenting her own three kids with her husband. She will help us to unpack a biblically loving path forward.
URL:https://lauriekrieg.com/event/raising-wise-kids-in-a-sexually-broken-world-5/
LOCATION:Trinity Mentor\, 9225 Johnnycake Ridge Rd.\, Mentor\, OH
ATTACH;FMTTYPE=image/png:https://lauriekrieg.com/wp-content/uploads/2025/03/Screenshot-2025-09-30-at-9.50.58-PM.png
END:VEVENT
BEGIN:VEVENT
DTSTART;TZID=UTC:20260426T080000
DTEND;TZID=UTC:20260426T120000
DTSTAMP:20260423T004349
CREATED:20260306T162010Z
LAST-MODIFIED:20260306T162010Z
UID:4850-1777190400-1777204800@lauriekrieg.com
SUMMARY:Private training event
DESCRIPTION:Laurie will share with a host church how they can walk with a gospel vision for sexuality in a sexually broken world.
URL:https://lauriekrieg.com/event/private-training-event/
LOCATION:TN
END:VEVENT
BEGIN:VEVENT
DTSTART;TZID=UTC:20260517T170000
DTEND;TZID=UTC:20260517T190000
DTSTAMP:20260423T004349
CREATED:20260320T200330Z
LAST-MODIFIED:20260320T200330Z
UID:4872-1779037200-1779044400@lauriekrieg.com
SUMMARY:Raising Wise Kids in a Sexually Broken World
DESCRIPTION:How can parents and disciple-makers help the next generation to wisely walk in a sexually broken world like Jesus? What are four foundations they can lay underneath their children’s feet so that no matter how their kids experience sin within them  they have the tools they need to walk in the way of Jesus no matter what? The Center for Faith\, Sexuality and Gender’s Director of Parent Programs and Discipleship\, Laurie Krieg\, has been teaching at the intersection of faith and sexuality for over a decade while parenting her own three kids with her husband. She will help us to unpack a biblically loving path forward.
URL:https://lauriekrieg.com/event/raising-wise-kids-in-a-sexually-broken-world-6/
LOCATION:National Community Church\, 700 M St SE\, Washington\, DC\, Washington\, DC\, 20003\, United States
ATTACH;FMTTYPE=image/png:https://lauriekrieg.com/wp-content/uploads/2025/03/Screenshot-2025-09-30-at-9.50.58-PM.png
END:VEVENT
BEGIN:VEVENT
DTSTART;TZID=UTC:20260919T090000
DTEND;TZID=UTC:20260919T123000
DTSTAMP:20260423T004349
CREATED:20260205T151740Z
LAST-MODIFIED:20260205T151740Z
UID:4819-1789808400-1789821000@lauriekrieg.com
SUMMARY:Raising Wise Kids in a Sexually Broken World
DESCRIPTION:How can parents and disciple-makers help the next generation to wisely walk in a sexually broken world like Jesus? What are four foundations they can lay underneath their children’s feet so that no matter how their kids experience sin within them  they have the tools they need to walk in the way of Jesus no matter what? The Center for Faith\, Sexuality and Gender’s Director of Parent Programs and Discipleship\, Laurie Krieg\, has has been teaching at the intersection of faith and sexuality for over a decade while parenting her own three kids with her husband. She will help us to unpack a biblically loving path forward.
URL:https://lauriekrieg.com/event/raising-wise-kids-in-a-sexually-broken-world-4/
LOCATION:Shelter Rock Church\, 626 Plandome Rd.\, Manhasset\, NY\, 11030
ATTACH;FMTTYPE=image/png:https://lauriekrieg.com/wp-content/uploads/2025/03/Screenshot-2025-09-30-at-9.50.58-PM.png
END:VEVENT
BEGIN:VEVENT
DTSTART;TZID=UTC:20261001T080000
DTEND;TZID=UTC:20261002T170000
DTSTAMP:20260423T004349
CREATED:20260306T161712Z
LAST-MODIFIED:20260306T161838Z
UID:4842-1790841600-1790960400@lauriekrieg.com
SUMMARY:ThinQ Summit 2026
DESCRIPTION:Laurie will present on the main stage of this culture-shaping conference on Parenting in a Sexually Broken World.
URL:https://lauriekrieg.com/event/thinq-summit-2026/
LOCATION:Nashville\, TN
ATTACH;FMTTYPE=image/png:https://lauriekrieg.com/wp-content/uploads/2026/03/Screenshot-2026-03-06-at-11.16.01-AM.png
END:VEVENT
BEGIN:VEVENT
DTSTART;TZID=UTC:20261003T090000
DTEND;TZID=UTC:20261003T090000
DTSTAMP:20260423T004349
CREATED:20260306T162633Z
LAST-MODIFIED:20260331T102446Z
UID:4856-1791018000-1791018000@lauriekrieg.com
SUMMARY:Raising Kids: A Christian Sexuality Conference
DESCRIPTION:Who (or what?) is discipling your kids about sex & gender?\nOur kids are growing up in a sexually broken and confusing world. Rather than simply reacting to this reality\, we need to equip our kids with a gospel vision for human sexuality before they go looking for or discover answers on their own. \nAt this conference\, parents and caregivers will walk away with: \n\nProactive Parenting Tools\nClarity on Sexuality & Gender from a Biblical Lens\nFoundational & Practical Tools for Living in a Porn-Saturated World\nLanguage to Have Age-Appropriate Conversations about Sex\nWays to Guard Your Family Against Sexual Abuse\nA Gospel Vision of Human Sexuality\n\nTo learn more: https://centerforfaith.com/conferences/
URL:https://lauriekrieg.com/event/raising-kids-a-christian-sexuality-conference-3/
LOCATION:More 2 Life Ministries\, 551 NE 39th Blvd\, Ocheechobee\, FL
ATTACH;FMTTYPE=image/png:https://lauriekrieg.com/wp-content/uploads/2025/07/Screenshot-2026-02-05-at-9.59.52-AM.png
END:VEVENT
BEGIN:VEVENT
DTSTART;TZID=UTC:20261015T080000
DTEND;TZID=UTC:20261016T170000
DTSTAMP:20260423T004349
CREATED:20260327T184723Z
LAST-MODIFIED:20260327T184942Z
UID:4879-1792051200-1792170000@lauriekrieg.com
SUMMARY:Great Lakes Unity Conference: Raising Wise Kids Breakout
DESCRIPTION:Raising Wise Kids in a Sexually Broken World \nHow can parents and disciple-makers help the next generation to wisely walk in a sexually broken world like Jesus? What are four foundations they can lay underneath their children’s feet so that no matter how their kids experience sin within them  they have the tools they need to walk in the way of Jesus no matter what? The Center for Faith\, Sexuality and Gender’s Director of Parent Programs and Discipleship\, Laurie Krieg\, has has been teaching at the intersection of faith and sexuality for over a decade while parenting her own three kids with her husband. She will help us to unpack a biblically loving path forward.
URL:https://lauriekrieg.com/event/m-a-n-s-conference-raising-wise-kids-breakout/
LOCATION:Amway Grand Plaza\, 197 Monroe Ave.\, Grand Rapids\, MI\, 49503\, United States
ATTACH;FMTTYPE=image/png:https://lauriekrieg.com/wp-content/uploads/2025/03/Screenshot-2025-09-30-at-9.50.58-PM.png
END:VEVENT
BEGIN:VEVENT
DTSTART;TZID=UTC:20261017T090000
DTEND;TZID=UTC:20261017T153000
DTSTAMP:20260423T004349
CREATED:20260331T102717Z
LAST-MODIFIED:20260331T102746Z
UID:4885-1792227600-1792251000@lauriekrieg.com
SUMMARY:Raising Kids: A Christian Sexuality Conference
DESCRIPTION:Who (or what?) is discipling your kids about sex & gender?\nOur kids are growing up in a sexually broken and confusing world. Rather than simply reacting to this reality\, we need to equip our kids with a gospel vision for human sexuality before they go looking for or discover answers on their own. \nAt this conference\, parents and caregivers will walk away with: \n\nProactive Parenting Tools\nClarity on Sexuality & Gender from a Biblical Lens\nFoundational & Practical Tools for Living in a Porn-Saturated World\nLanguage to Have Age-Appropriate Conversations about Sex\nWays to Guard Your Family Against Sexual Abuse\nA Gospel Vision of Human Sexuality\n\nTo learn more: https://centerforfaith.com/conferences/
URL:https://lauriekrieg.com/event/raising-kids-a-christian-sexuality-conference-5/
LOCATION:Faith Dyer\, 100 E 81st Ave\, Dyer\, IN\, 46311\, United States
ATTACH;FMTTYPE=image/png:https://lauriekrieg.com/wp-content/uploads/2025/07/Screenshot-2026-02-05-at-9.59.52-AM.png
END:VEVENT
BEGIN:VEVENT
DTSTART;TZID=UTC:20261107T090000
DTEND;TZID=UTC:20261107T153000
DTSTAMP:20260423T004349
CREATED:20260331T103023Z
LAST-MODIFIED:20260331T103023Z
UID:4887-1794042000-1794065400@lauriekrieg.com
SUMMARY:Raising Kids: A Christian Sexuality Conference
DESCRIPTION:Who (or what?) is discipling your kids about sex & gender?\nOur kids are growing up in a sexually broken and confusing world. Rather than simply reacting to this reality\, we need to equip our kids with a gospel vision for human sexuality before they go looking for or discover answers on their own. \nAt this conference\, parents and caregivers will walk away with: \n\nProactive Parenting Tools\nClarity on Sexuality & Gender from a Biblical Lens\nFoundational & Practical Tools for Living in a Porn-Saturated World\nLanguage to Have Age-Appropriate Conversations about Sex\nWays to Guard Your Family Against Sexual Abuse\nA Gospel Vision of Human Sexuality\n\nTo learn more: https://centerforfaith.com/conferences/
URL:https://lauriekrieg.com/event/raising-kids-a-christian-sexuality-conference-6/
LOCATION:Redemption Boise
ATTACH;FMTTYPE=image/png:https://lauriekrieg.com/wp-content/uploads/2025/07/Screenshot-2026-02-05-at-9.59.52-AM.png
END:VEVENT
BEGIN:VEVENT
DTSTART;TZID=UTC:20261120T080000
DTEND;TZID=UTC:20261120T170000
DTSTAMP:20260423T004349
CREATED:20260205T152341Z
LAST-MODIFIED:20260327T015056Z
UID:4822-1795161600-1795194000@lauriekrieg.com
SUMMARY:Gospel Sexuality: Delight\, Distortions & Discipleship Conference
DESCRIPTION:Gospel Sexuality: Delight\nSo often\, Christians focus on the second act of the gospel story—the Fall—when talking about God’s design for sexuality. But God did not begin the world with\, “In the beginning\, sin distorted everything.” Rather\, “In the beginning\, God created the world\, and it was good.” How does starting with creation\, then moving to the Fall\, looking next at Jesus’ redemption\, and finally at God’s re-creation of the world help us navigate sexuality with hope—and yes\, delight? \nPanel Discussion: Gospel Sexuality: Distortions \nIt is impossible—and unwise—to talk about human sexuality without addressing its distortions. We see brokenness in marriage\, gender\, singleness lived outside of God’s design\, pornography addiction\, and more. Laurie Krieg\, alongside a panel of experts\, will speak to how we can engage the distortions we see in our world. \nGospel Sexuality: Discipleship\nGod does not leave us in our sin and brokenness but leads us toward life. How can we walk alongside our friends\, kids\, and neighbours who do not follow God’s design for human sexuality and help them experience flourishing in Christ? What tools can we develop and use to encourage everyone (ourselves included) to walk in the way of Jesus? \nPanel Discussion: Gospel Sexuality: Q&A\nLaurie Krieg\, alongside a panel of experts\, responds to your questions. \nLearn more: https://seekinsight.ca/
URL:https://lauriekrieg.com/event/gospel-sexuality-delight-distortions-discipleship/
LOCATION:Insight Biblical Counseling\, 263 Division St.\, Welland\, Ontario\, L3B 4A3\, Canada
ATTACH;FMTTYPE=image/png:https://lauriekrieg.com/wp-content/uploads/2026/02/Screenshot-2026-02-05-at-10.21.59-AM.png
END:VEVENT
BEGIN:VEVENT
DTSTART;TZID=UTC:20270311T190000
DTEND;TZID=UTC:20270311T210000
DTSTAMP:20260423T004349
CREATED:20260310T214544Z
LAST-MODIFIED:20260331T103140Z
UID:4865-1804791600-1804798800@lauriekrieg.com
SUMMARY:100 One-Minute Conversations: Teaching Our Kids About  Sex + Puberty
DESCRIPTION:Experts say that the best way to talk with our kids about sex and puberty is not in one\, 100-minute conversation but 100 one-minute conversations. That sounds nice\, but what do we say in those one-minute conversations? And\, isn’t there a time where kids go from not understanding about intercourse to understanding it? How do we say that part—in an age-appropriate (and can we do it gospel-centered?)—way? Mom\, author\, and ministry leader\, Laurie Krieg\, will help us to unpack it all with peaceful\, gospel confidence. 
URL:https://lauriekrieg.com/event/100-one-minute-conversations-teaching-our-kids-about-sex-puberty/
LOCATION:Calvary Church Grand Rapids\, 707 East Beltline NE\, Grand Rapids\, MI\, 49525\, United States
ATTACH;FMTTYPE=image/png:https://lauriekrieg.com/wp-content/uploads/2026/03/Screenshot-2026-03-10-at-5.44.53-PM.png
END:VEVENT
BEGIN:VEVENT
DTSTART;TZID=UTC:20270424T090000
DTEND;TZID=UTC:20270424T153000
DTSTAMP:20260423T004349
CREATED:20260331T104010Z
LAST-MODIFIED:20260331T104010Z
UID:4895-1808557200-1808580600@lauriekrieg.com
SUMMARY:Raising Kids: A Christian Sexuality Conference
DESCRIPTION:Who (or what?) is discipling your kids about sex & gender?\nOur kids are growing up in a sexually broken and confusing world. Rather than simply reacting to this reality\, we need to equip our kids with a gospel vision for human sexuality beforethey go looking for or discover answers on their own. \nAt this conference\, parents and caregivers will walk away with: \n\nProactive Parenting Tools\nClarity on Sexuality & Gender from a Biblical Lens\nFoundational & Practical Tools for Living in a Porn-Saturated World\nLanguage to Have Age-Appropriate Conversations about Sex\nWays to Guard Your Family Against Sexual Abuse\nA Gospel Vision of Human Sexuality\n\nTo learn more: https://centerforfaith.com/conferences/
URL:https://lauriekrieg.com/event/raising-kids-a-christian-sexuality-conference-8/
LOCATION:City Church Knoxville\, 522 Sevier Ave Knoxville\, Knoxville\, TN\, 37920\, United States
ATTACH;FMTTYPE=image/png:https://lauriekrieg.com/wp-content/uploads/2025/07/Screenshot-2026-02-05-at-9.59.52-AM.png
END:VEVENT
END:VCALENDAR